BEGIN:VCALENDAR
VERSION:2.0
PRODID:-//Caledonian Inn Robe - ECPv4.0.7//NONSGML v1.0//EN
CALSCALE:GREGORIAN
METHOD:PUBLISH
X-WR-CALNAME:Caledonian Inn Robe
X-ORIGINAL-URL:https://caledonianinnrobe.com.au
X-WR-CALDESC:Events for Caledonian Inn Robe
BEGIN:VEVENT
DTSTART;VALUE=DATE:20180224
DTEND;VALUE=DATE:20180303
DTSTAMP:20180224T084304
CREATED:20151116
LAST-MODIFIED:20180105
UID:1310-1519430400-1520121599@caledonianinnrobe.com.au
SUMMARY:Southern Ports Golf Week
DESCRIPTION:Southern Ports Golf Week (SPGW) is an event run by the Kingston SE\, Robe and Beachport Golf Clubs.\nKingston SE\, Beachport & Robe are small coastal towns in the South East of South Australia. The area is well renowned for its crayfishing industry and fertile farming land\, conveniently situated close to a large part of the South East of South Australia and Western Victoria.\n\nSince 1975\, SPGW has been held annually beginning on the last Saturday of February. This week-long event is made up of a 54 Hole Championship\, Foursomes Events & Mixed Events\, for all handicap ranges\, with A\, B and C grades (Men & Ladies).\n\nThe first Saturday sees the Mens and Ladies Pinehurst Foursomes being played. On Sunday there is a Mixed Pinehurst Foursomes.\n\nThe 54 hole Championship Event is played at all three clubs on Monday\, Wednesday & Friday. Each grade plays on a specific course each day. Each day has various starting times\, depending on the number of players in each field.\n\nThe last Saturday is a Mixed 4BBB Stableford which is played in a very relaxed atmosphere after a week of good fun & camaraderie. Individual clubs host other events on the remaining days.\n\nAfter celebrating our 40th year in 2015\, we look forward to many more successful weeks of golf.
URL:https://caledonianinnrobe.com.au/event/southern-ports-golf-week-2018-02-27/2018-02-24/
LOCATION:Robe\, SA\, 5276\, Australia
GEO:-37.1624856;139.7548923
CATEGORIES:Community Event
ATTACH;FMTTYPE=image/jpeg:https://caledonianinnrobe.com.au/wp-content/uploads/2015/11/robe-golf-2.jpg
ORGANIZER;CN="Jan%20Chalmers":MAILTO:info@southernportsgolf.com
END:VEVENT
BEGIN:VEVENT
DTSTART;VALUE=DATE:20180303
DTEND;VALUE=DATE:20180304
DTSTAMP:20180224T084304
CREATED:20180128
LAST-MODIFIED:20180128
UID:2123-1520035200-1520207999@caledonianinnrobe.com.au
SUMMARY:3 - 4 March: Street Level
DESCRIPTION:
URL:https://caledonianinnrobe.com.au/event/3-4-march-street-level/
LOCATION:1 Victoria Street\, Robe\, SA\, 5276\, Australia
GEO:-37.163341;139.75829
X-APPLE-STRUCTURED-LOCATION;VALUE=URI;X-ADDRESS=1 Victoria Street Robe SA 5276 Australia;X-APPLE-RADIUS=500;X-TITLE=1 Victoria Street:geo:139.75829,-37.163341
CATEGORIES:Live Bands & Entertainment
ATTACH;FMTTYPE=image/gif:https://caledonianinnrobe.com.au/wp-content/uploads/2018/01/STREET-LEVEL-MARCH.gif
END:VEVENT
BEGIN:VEVENT
DTSTART;VALUE=DATE:20180309
DTEND;VALUE=DATE:20180310
DTSTAMP:20180224T084304
CREATED:20180128
LAST-MODIFIED:20180128
UID:2124-1520553600-1520726399@caledonianinnrobe.com.au
SUMMARY:9 - 10 March: The Distractors
DESCRIPTION:
URL:https://caledonianinnrobe.com.au/event/9-10-march-the-distractors/
LOCATION:1 Victoria Street\, Robe\, SA\, 5276\, Australia
GEO:-37.163341;139.75829
X-APPLE-STRUCTURED-LOCATION;VALUE=URI;X-ADDRESS=1 Victoria Street Robe SA 5276 Australia;X-APPLE-RADIUS=500;X-TITLE=1 Victoria Street:geo:139.75829,-37.163341
CATEGORIES:Live Bands & Entertainment
ATTACH;FMTTYPE=image/gif:https://caledonianinnrobe.com.au/wp-content/uploads/2018/01/THE-DISTRACTORS-MARCH.gif
END:VEVENT
BEGIN:VEVENT
DTSTART;VALUE=DATE:20180311
DTEND;VALUE=DATE:20180311
DTSTAMP:20180224T084304
CREATED:20180128
LAST-MODIFIED:20180128
UID:2125-1520726400-1520812799@caledonianinnrobe.com.au
SUMMARY:11 March: Brenton Williams
DESCRIPTION:
URL:https://caledonianinnrobe.com.au/event/11-march-brenton-williams/
LOCATION:1 Victoria Street\, Robe\, SA\, 5276\, Australia
GEO:-37.163341;139.75829
X-APPLE-STRUCTURED-LOCATION;VALUE=URI;X-ADDRESS=1 Victoria Street Robe SA 5276 Australia;X-APPLE-RADIUS=500;X-TITLE=1 Victoria Street:geo:139.75829,-37.163341
CATEGORIES:Live Bands & Entertainment
ATTACH;FMTTYPE=image/gif:https://caledonianinnrobe.com.au/wp-content/uploads/2018/01/BRENTON-WILLIAMS-11-MARCH.gif
END:VEVENT
BEGIN:VEVENT
DTSTART;VALUE=DATE:20180316
DTEND;VALUE=DATE:20180317
DTSTAMP:20180224T084304
CREATED:20151116
LAST-MODIFIED:20180105
UID:2098-1521158400-1521331199@caledonianinnrobe.com.au
SUMMARY:Lucindale Field Days
DESCRIPTION:Country Music Festival & Show\nEnjoy a great week of country\, dancing\, comedy\, walk ups\, entertainment and wide variety of food.
URL:https://caledonianinnrobe.com.au/event/yakka-park-music-festival-lucindale-field-days-2018-03-16-2/
LOCATION:3293 Avenue Range Road\, Lucindale\, SA\, 5272\, Australia
GEO:-36.9381988;140.171969
X-APPLE-STRUCTURED-LOCATION;VALUE=URI;X-ADDRESS=3293 Avenue Range Road Lucindale SA 5272 Australia;X-APPLE-RADIUS=500;X-TITLE=3293 Avenue Range Road:geo:140.171969,-36.9381988
CATEGORIES:Community Event
ATTACH;FMTTYPE=image/jpeg:https://caledonianinnrobe.com.au/wp-content/uploads/2015/11/lucindale-field-days.jpg
ORGANIZER;CN="Lyn%20Crosby":MAILTO:sefds@bigpond.com
END:VEVENT
BEGIN:VEVENT
DTSTART;VALUE=DATE:20180316
DTEND;VALUE=DATE:20180317
DTSTAMP:20180224T084304
CREATED:20180128
LAST-MODIFIED:20180128
UID:2126-1521158400-1521331199@caledonianinnrobe.com.au
SUMMARY:16 - 17 March: Wildside
DESCRIPTION:
URL:https://caledonianinnrobe.com.au/event/16-17-march-wildside/
LOCATION:1 Victoria Street\, Robe\, SA\, 5276\, Australia
GEO:-37.163341;139.75829
X-APPLE-STRUCTURED-LOCATION;VALUE=URI;X-ADDRESS=1 Victoria Street Robe SA 5276 Australia;X-APPLE-RADIUS=500;X-TITLE=1 Victoria Street:geo:139.75829,-37.163341
CATEGORIES:Live Bands & Entertainment
ATTACH;FMTTYPE=image/gif:https://caledonianinnrobe.com.au/wp-content/uploads/2018/01/WILDSIDE-MARCH.gif
END:VEVENT
BEGIN:VEVENT
DTSTART;VALUE=DATE:20180324
DTEND;VALUE=DATE:20180324
DTSTAMP:20180224T084304
CREATED:20180128
LAST-MODIFIED:20180128
UID:2127-1521849600-1521935999@caledonianinnrobe.com.au
SUMMARY:24 March: Tim Richards
DESCRIPTION:
URL:https://caledonianinnrobe.com.au/event/24-march-tim-richards/
LOCATION:1 Victoria Street\, Robe\, SA\, 5276\, Australia
GEO:-37.163341;139.75829
X-APPLE-STRUCTURED-LOCATION;VALUE=URI;X-ADDRESS=1 Victoria Street Robe SA 5276 Australia;X-APPLE-RADIUS=500;X-TITLE=1 Victoria Street:geo:139.75829,-37.163341
CATEGORIES:Live Bands & Entertainment
ATTACH;FMTTYPE=image/gif:https://caledonianinnrobe.com.au/wp-content/uploads/2018/01/TIM-RICHARDS-MARCH.gif
END:VEVENT
BEGIN:VEVENT
DTSTART;VALUE=DATE:20180325
DTEND;VALUE=DATE:20180327
DTSTAMP:20180224T084304
CREATED:20151116
LAST-MODIFIED:20151116
UID:1591-1521936000-1522195199@caledonianinnrobe.com.au
SUMMARY:Robe Surf  & Onboard Easter Classic
DESCRIPTION:The Robe Easter Classic is an epic 3 day event featuring 3 days of riding: Wavesailing\, Kitesurfing and SUP! The comp is a 3 day expression session based at Robe with riding windows based on weather and wind conditions. It's an awesome way to spend the Easter long weekend with plenty of fun\, riding and partying!
URL:https://caledonianinnrobe.com.au/event/robe-surf-onboard-easter-classic/2018-03-25/
LOCATION:Robe\, SA\, 5276\, Australia
GEO:-37.1624856;139.7548923
CATEGORIES:Community Event
ATTACH;FMTTYPE=image/jpeg:https://caledonianinnrobe.com.au/wp-content/uploads/2015/11/robe-easter-classic.jpg
END:VEVENT
BEGIN:VEVENT
DTSTART;TZID="Australia/Adelaide":20180325T150000
DTEND;TZID="Australia/Adelaide":20180325T180000
DTSTAMP:20180224T084304
CREATED:20170929T073959
LAST-MODIFIED:20170929T073959
UID:2036-1521990000-1522000800@caledonianinnrobe.com.au
SUMMARY:2nd Sunday of Every Month: Open Mic at the Cally
DESCRIPTION:OPEN MIC & THE SPOKEN WORD At the Cally!\nSecond Sunday of every month - kicking off at 3pm!\n\nAll acts welcome - Prizes and free pint/house wine for entries!\n\n
URL:https://caledonianinnrobe.com.au/event/open-mic-cally/2018-03-25/
LOCATION:1 Victoria Street\, Robe\, SA\, 5276\, Australia
GEO:-37.163341;139.75829
X-APPLE-STRUCTURED-LOCATION;VALUE=URI;X-ADDRESS=1 Victoria Street Robe SA 5276 Australia;X-APPLE-RADIUS=500;X-TITLE=1 Victoria Street:geo:139.75829,-37.163341
CATEGORIES:Community Event,Live Bands & Entertainment
ATTACH;FMTTYPE=image/gif:https://caledonianinnrobe.com.au/wp-content/uploads/2017/09/OPEN_MIC-feature.gif
END:VEVENT
END:VCALENDAR